BEGIN:VCALENDAR
VERSION:2.0
PRODID:-//The Executive Forum - ECPv6.15.14//NONSGML v1.0//EN
CALSCALE:GREGORIAN
METHOD:PUBLISH
X-WR-CALNAME:The Executive Forum
X-ORIGINAL-URL:https://theexecutiveforum.org
X-WR-CALDESC:Events for The Executive Forum
REFRESH-INTERVAL;VALUE=DURATION:PT1H
X-Robots-Tag:noindex
X-PUBLISHED-TTL:PT1H
BEGIN:VTIMEZONE
TZID:America/New_York
BEGIN:DAYLIGHT
TZOFFSETFROM:-0500
TZOFFSETTO:-0400
TZNAME:EDT
DTSTART:20250309T070000
END:DAYLIGHT
BEGIN:STANDARD
TZOFFSETFROM:-0400
TZOFFSETTO:-0500
TZNAME:EST
DTSTART:20251102T060000
END:STANDARD
BEGIN:DAYLIGHT
TZOFFSETFROM:-0500
TZOFFSETTO:-0400
TZNAME:EDT
DTSTART:20260308T070000
END:DAYLIGHT
BEGIN:STANDARD
TZOFFSETFROM:-0400
TZOFFSETTO:-0500
TZNAME:EST
DTSTART:20261101T060000
END:STANDARD
BEGIN:DAYLIGHT
TZOFFSETFROM:-0500
TZOFFSETTO:-0400
TZNAME:EDT
DTSTART:20270314T070000
END:DAYLIGHT
BEGIN:STANDARD
TZOFFSETFROM:-0400
TZOFFSETTO:-0500
TZNAME:EST
DTSTART:20271107T060000
END:STANDARD
END:VTIMEZONE
BEGIN:VEVENT
DTSTART;TZID=America/New_York:20260604T080000
DTEND;TZID=America/New_York:20260604T093000
DTSTAMP:20260423T135319
CREATED:20260114T215651Z
LAST-MODIFIED:20260114T215659Z
UID:329-1780560000-1780565400@theexecutiveforum.org
SUMMARY:Networking Meeting
DESCRIPTION:We are meeting in person at:  \nCharlie’s Cafe\n2500 Westchester Avenue \nWhite Plains\, NY 10604 \nFor GPS use “Purchase\, NY” or “Harrison\, NY”.
URL:https://theexecutiveforum.org/event/networking-meeting-6-4-26/
LOCATION:Charlie’s Cafe\, 2500 Westchester Avenue\, White Plains\, NY\, 10604\, United States
ORGANIZER;CN="George Goodman":MAILTO:ggoodman@forbesinsurance.com
END:VEVENT
END:VCALENDAR