BEGIN:VCALENDAR
VERSION:2.0
PRODID:-//The Executive Forum - ECPv6.15.14//NONSGML v1.0//EN
CALSCALE:GREGORIAN
METHOD:PUBLISH
X-WR-CALNAME:The Executive Forum
X-ORIGINAL-URL:https://theexecutiveforum.org
X-WR-CALDESC:Events for The Executive Forum
REFRESH-INTERVAL;VALUE=DURATION:PT1H
X-Robots-Tag:noindex
X-PUBLISHED-TTL:PT1H
BEGIN:VTIMEZONE
TZID:America/New_York
BEGIN:DAYLIGHT
TZOFFSETFROM:-0500
TZOFFSETTO:-0400
TZNAME:EDT
DTSTART:20250309T070000
END:DAYLIGHT
BEGIN:STANDARD
TZOFFSETFROM:-0400
TZOFFSETTO:-0500
TZNAME:EST
DTSTART:20251102T060000
END:STANDARD
BEGIN:DAYLIGHT
TZOFFSETFROM:-0500
TZOFFSETTO:-0400
TZNAME:EDT
DTSTART:20260308T070000
END:DAYLIGHT
BEGIN:STANDARD
TZOFFSETFROM:-0400
TZOFFSETTO:-0500
TZNAME:EST
DTSTART:20261101T060000
END:STANDARD
BEGIN:DAYLIGHT
TZOFFSETFROM:-0500
TZOFFSETTO:-0400
TZNAME:EDT
DTSTART:20270314T070000
END:DAYLIGHT
BEGIN:STANDARD
TZOFFSETFROM:-0400
TZOFFSETTO:-0500
TZNAME:EST
DTSTART:20271107T060000
END:STANDARD
END:VTIMEZONE
BEGIN:VEVENT
DTSTART;TZID=America/New_York:20260402T080000
DTEND;TZID=America/New_York:20260402T093000
DTSTAMP:20260423T141714
CREATED:20260114T215417Z
LAST-MODIFIED:20260114T215452Z
UID:323-1775116800-1775122200@theexecutiveforum.org
SUMMARY:Networking Meeting
DESCRIPTION:We are meeting in person at:  \nCharlie’s Cafe\n2500 Westchester Avenue \nWhite Plains\, NY 10604 \nFor GPS use “Purchase\, NY” or “Harrison\, NY”.
URL:https://theexecutiveforum.org/event/networking-meeting-4-2-26/
LOCATION:Charlie’s Cafe\, 2500 Westchester Avenue\, White Plains\, NY\, 10604\, United States
ORGANIZER;CN="George Goodman":MAILTO:ggoodman@forbesinsurance.com
END:VEVENT
BEGIN:VEVENT
DTSTART;TZID=America/New_York:20260423T080000
DTEND;TZID=America/New_York:20260423T093000
DTSTAMP:20260423T141714
CREATED:20260114T215523Z
LAST-MODIFIED:20260114T215541Z
UID:325-1776931200-1776936600@theexecutiveforum.org
SUMMARY:Networking Meeting
DESCRIPTION:We are meeting in person at:  \nCharlie’s Cafe\n2500 Westchester Avenue \nWhite Plains\, NY 10604 \nFor GPS use “Purchase\, NY” or “Harrison\, NY”.
URL:https://theexecutiveforum.org/event/networking-meeting-4-23-26/
LOCATION:Charlie’s Cafe\, 2500 Westchester Avenue\, White Plains\, NY\, 10604\, United States
ORGANIZER;CN="George Goodman":MAILTO:ggoodman@forbesinsurance.com
END:VEVENT
BEGIN:VEVENT
DTSTART;TZID=America/New_York:20260514T080000
DTEND;TZID=America/New_York:20260514T093000
DTSTAMP:20260423T141714
CREATED:20260114T215610Z
LAST-MODIFIED:20260114T215619Z
UID:327-1778745600-1778751000@theexecutiveforum.org
SUMMARY:Networking Meeting
DESCRIPTION:We are meeting in person at:  \nCharlie’s Cafe\n2500 Westchester Avenue \nWhite Plains\, NY 10604 \nFor GPS use “Purchase\, NY” or “Harrison\, NY”.
URL:https://theexecutiveforum.org/event/networking-meeting-5-14-26-copy/
LOCATION:Charlie’s Cafe\, 2500 Westchester Avenue\, White Plains\, NY\, 10604\, United States
ORGANIZER;CN="George Goodman":MAILTO:ggoodman@forbesinsurance.com
END:VEVENT
BEGIN:VEVENT
DTSTART;TZID=America/New_York:20260604T080000
DTEND;TZID=America/New_York:20260604T093000
DTSTAMP:20260423T141714
CREATED:20260114T215651Z
LAST-MODIFIED:20260114T215659Z
UID:329-1780560000-1780565400@theexecutiveforum.org
SUMMARY:Networking Meeting
DESCRIPTION:We are meeting in person at:  \nCharlie’s Cafe\n2500 Westchester Avenue \nWhite Plains\, NY 10604 \nFor GPS use “Purchase\, NY” or “Harrison\, NY”.
URL:https://theexecutiveforum.org/event/networking-meeting-6-4-26/
LOCATION:Charlie’s Cafe\, 2500 Westchester Avenue\, White Plains\, NY\, 10604\, United States
ORGANIZER;CN="George Goodman":MAILTO:ggoodman@forbesinsurance.com
END:VEVENT
BEGIN:VEVENT
DTSTART;TZID=America/New_York:20260625T080000
DTEND;TZID=America/New_York:20260625T093000
DTSTAMP:20260423T141714
CREATED:20260114T215732Z
LAST-MODIFIED:20260114T215744Z
UID:331-1782374400-1782379800@theexecutiveforum.org
SUMMARY:Networking Meeting
DESCRIPTION:We are meeting in person at:  \nCharlie’s Cafe\n2500 Westchester Avenue \nWhite Plains\, NY 10604 \nFor GPS use “Purchase\, NY” or “Harrison\, NY”.
URL:https://theexecutiveforum.org/event/networking-meeting-6-25-26/
LOCATION:Charlie’s Cafe\, 2500 Westchester Avenue\, White Plains\, NY\, 10604\, United States
ORGANIZER;CN="George Goodman":MAILTO:ggoodman@forbesinsurance.com
END:VEVENT
BEGIN:VEVENT
DTSTART;TZID=America/New_York:20260910T080000
DTEND;TZID=America/New_York:20260910T093000
DTSTAMP:20260423T141714
CREATED:20260114T215816Z
LAST-MODIFIED:20260114T215827Z
UID:333-1789027200-1789032600@theexecutiveforum.org
SUMMARY:Networking Meeting
DESCRIPTION:We are meeting in person at:  \nCharlie’s Cafe\n2500 Westchester Avenue \nWhite Plains\, NY 10604 \nFor GPS use “Purchase\, NY” or “Harrison\, NY”.
URL:https://theexecutiveforum.org/event/networking-meeting-9-10-26/
LOCATION:Charlie’s Cafe\, 2500 Westchester Avenue\, White Plains\, NY\, 10604\, United States
ORGANIZER;CN="George Goodman":MAILTO:ggoodman@forbesinsurance.com
END:VEVENT
BEGIN:VEVENT
DTSTART;TZID=America/New_York:20261001T080000
DTEND;TZID=America/New_York:20261001T093000
DTSTAMP:20260423T141714
CREATED:20260114T215903Z
LAST-MODIFIED:20260114T215911Z
UID:335-1790841600-1790847000@theexecutiveforum.org
SUMMARY:Networking Meeting
DESCRIPTION:We are meeting in person at:  \nCharlie’s Cafe\n2500 Westchester Avenue \nWhite Plains\, NY 10604 \nFor GPS use “Purchase\, NY” or “Harrison\, NY”.
URL:https://theexecutiveforum.org/event/networking-meeting-10-1-26/
LOCATION:Charlie’s Cafe\, 2500 Westchester Avenue\, White Plains\, NY\, 10604\, United States
ORGANIZER;CN="George Goodman":MAILTO:ggoodman@forbesinsurance.com
END:VEVENT
BEGIN:VEVENT
DTSTART;TZID=America/New_York:20261022T080000
DTEND;TZID=America/New_York:20261022T093000
DTSTAMP:20260423T141714
CREATED:20260114T215944Z
LAST-MODIFIED:20260114T215952Z
UID:337-1792656000-1792661400@theexecutiveforum.org
SUMMARY:Networking Meeting
DESCRIPTION:We are meeting in person at:  \nCharlie’s Cafe\n2500 Westchester Avenue \nWhite Plains\, NY 10604 \nFor GPS use “Purchase\, NY” or “Harrison\, NY”.
URL:https://theexecutiveforum.org/event/networking-meeting-10-22-26/
LOCATION:Charlie’s Cafe\, 2500 Westchester Avenue\, White Plains\, NY\, 10604\, United States
ORGANIZER;CN="George Goodman":MAILTO:ggoodman@forbesinsurance.com
END:VEVENT
BEGIN:VEVENT
DTSTART;TZID=America/New_York:20261112T080000
DTEND;TZID=America/New_York:20261112T093000
DTSTAMP:20260423T141714
CREATED:20260114T220019Z
LAST-MODIFIED:20260114T220027Z
UID:339-1794470400-1794475800@theexecutiveforum.org
SUMMARY:Networking Meeting
DESCRIPTION:We are meeting in person at:  \nCharlie’s Cafe\n2500 Westchester Avenue \nWhite Plains\, NY 10604 \nFor GPS use “Purchase\, NY” or “Harrison\, NY”.
URL:https://theexecutiveforum.org/event/networking-meeting-11-12-26/
LOCATION:Charlie’s Cafe\, 2500 Westchester Avenue\, White Plains\, NY\, 10604\, United States
ORGANIZER;CN="George Goodman":MAILTO:ggoodman@forbesinsurance.com
END:VEVENT
BEGIN:VEVENT
DTSTART;TZID=America/New_York:20261203T080000
DTEND;TZID=America/New_York:20261203T093000
DTSTAMP:20260423T141714
CREATED:20260114T220106Z
LAST-MODIFIED:20260114T220115Z
UID:341-1796284800-1796290200@theexecutiveforum.org
SUMMARY:Networking Meeting
DESCRIPTION:We are meeting in person at:  \nCharlie’s Cafe\n2500 Westchester Avenue \nWhite Plains\, NY 10604 \nFor GPS use “Purchase\, NY” or “Harrison\, NY”.
URL:https://theexecutiveforum.org/event/networking-meeting-12-3-26/
LOCATION:Charlie’s Cafe\, 2500 Westchester Avenue\, White Plains\, NY\, 10604\, United States
ORGANIZER;CN="George Goodman":MAILTO:ggoodman@forbesinsurance.com
END:VEVENT
END:VCALENDAR