BEGIN:VCALENDAR
VERSION:2.0
PRODID:-//The Executive Forum - ECPv6.15.14//NONSGML v1.0//EN
CALSCALE:GREGORIAN
METHOD:PUBLISH
X-WR-CALNAME:The Executive Forum
X-ORIGINAL-URL:https://theexecutiveforum.org
X-WR-CALDESC:Events for The Executive Forum
REFRESH-INTERVAL;VALUE=DURATION:PT1H
X-Robots-Tag:noindex
X-PUBLISHED-TTL:PT1H
BEGIN:VTIMEZONE
TZID:America/New_York
BEGIN:DAYLIGHT
TZOFFSETFROM:-0500
TZOFFSETTO:-0400
TZNAME:EDT
DTSTART:20200308T070000
END:DAYLIGHT
BEGIN:STANDARD
TZOFFSETFROM:-0400
TZOFFSETTO:-0500
TZNAME:EST
DTSTART:20201101T060000
END:STANDARD
BEGIN:DAYLIGHT
TZOFFSETFROM:-0500
TZOFFSETTO:-0400
TZNAME:EDT
DTSTART:20210314T070000
END:DAYLIGHT
BEGIN:STANDARD
TZOFFSETFROM:-0400
TZOFFSETTO:-0500
TZNAME:EST
DTSTART:20211107T060000
END:STANDARD
BEGIN:DAYLIGHT
TZOFFSETFROM:-0500
TZOFFSETTO:-0400
TZNAME:EDT
DTSTART:20220313T070000
END:DAYLIGHT
BEGIN:STANDARD
TZOFFSETFROM:-0400
TZOFFSETTO:-0500
TZNAME:EST
DTSTART:20221106T060000
END:STANDARD
BEGIN:DAYLIGHT
TZOFFSETFROM:-0500
TZOFFSETTO:-0400
TZNAME:EDT
DTSTART:20230312T070000
END:DAYLIGHT
BEGIN:STANDARD
TZOFFSETFROM:-0400
TZOFFSETTO:-0500
TZNAME:EST
DTSTART:20231105T060000
END:STANDARD
BEGIN:DAYLIGHT
TZOFFSETFROM:-0500
TZOFFSETTO:-0400
TZNAME:EDT
DTSTART:20240310T070000
END:DAYLIGHT
BEGIN:STANDARD
TZOFFSETFROM:-0400
TZOFFSETTO:-0500
TZNAME:EST
DTSTART:20241103T060000
END:STANDARD
END:VTIMEZONE
BEGIN:VEVENT
DTSTART;TZID=America/New_York:20231130T080000
DTEND;TZID=America/New_York:20231130T093000
DTSTAMP:20260423T172719
CREATED:20230828T150248Z
LAST-MODIFIED:20230928T164301Z
UID:262-1701331200-1701336600@theexecutiveforum.org
SUMMARY:Networking Meeting
DESCRIPTION:We are meeting in person at:  \nCharlie’s Cafe\n2500 Westchester Avenue \nWhite Plains\, NY 10604 \nFor GPS use “Purchase\, NY” or “Harrison\, NY”.
URL:https://theexecutiveforum.org/event/networking-meeting-11-30-23/
LOCATION:Charlie’s Cafe\, 2500 Westchester Avenue\, White Plains\, NY\, 10604\, United States
ORGANIZER;CN="George Goodman":MAILTO:ggoodman@forbesinsurance.com
END:VEVENT
BEGIN:VEVENT
DTSTART;TZID=America/New_York:20231109T080000
DTEND;TZID=America/New_York:20231109T093000
DTSTAMP:20260423T172719
CREATED:20230828T150205Z
LAST-MODIFIED:20230928T164331Z
UID:260-1699516800-1699522200@theexecutiveforum.org
SUMMARY:Networking Meeting
DESCRIPTION:We are meeting in person at:  \nCharlie’s Cafe\n2500 Westchester Avenue \nWhite Plains\, NY 10604 \nFor GPS use “Purchase\, NY” or “Harrison\, NY”.
URL:https://theexecutiveforum.org/event/networking-meeting-11-9-23/
LOCATION:Charlie’s Cafe\, 2500 Westchester Avenue\, White Plains\, NY\, 10604\, United States
ORGANIZER;CN="George Goodman":MAILTO:ggoodman@forbesinsurance.com
END:VEVENT
BEGIN:VEVENT
DTSTART;TZID=America/New_York:20231019T080000
DTEND;TZID=America/New_York:20231019T093000
DTSTAMP:20260423T172719
CREATED:20230828T150145Z
LAST-MODIFIED:20230928T164349Z
UID:258-1697702400-1697707800@theexecutiveforum.org
SUMMARY:Networking Meeting
DESCRIPTION:We are meeting in person at:  \nCharlie’s Cafe\n2500 Westchester Avenue \nWhite Plains\, NY 10604 \nFor GPS use “Purchase\, NY” or “Harrison\, NY”.
URL:https://theexecutiveforum.org/event/networking-meeting-10-19-23/
LOCATION:Charlie’s Cafe\, 2500 Westchester Avenue\, White Plains\, NY\, 10604\, United States
ORGANIZER;CN="George Goodman":MAILTO:ggoodman@forbesinsurance.com
END:VEVENT
BEGIN:VEVENT
DTSTART;TZID=America/New_York:20230928T080000
DTEND;TZID=America/New_York:20230928T093000
DTSTAMP:20260423T172719
CREATED:20230828T150124Z
LAST-MODIFIED:20230828T150141Z
UID:256-1695888000-1695893400@theexecutiveforum.org
SUMMARY:Networking Meeting
DESCRIPTION:We are meeting in person at:  \nCharlie’s Cafe\n1025 Westchester Avenue \nWhite Plains\, NY 10604 \nFor GPS use “Purchase\, NY” or “Harrison\, NY”.
URL:https://theexecutiveforum.org/event/networking-meeting-9-28-23/
LOCATION:Charlie’s Cafe\, 2500 Westchester Avenue\, White Plains\, NY\, 10604\, United States
ORGANIZER;CN="George Goodman":MAILTO:ggoodman@forbesinsurance.com
END:VEVENT
BEGIN:VEVENT
DTSTART;TZID=America/New_York:20230907T080000
DTEND;TZID=America/New_York:20230907T093000
DTSTAMP:20260423T172719
CREATED:20230828T150103Z
LAST-MODIFIED:20230828T150119Z
UID:254-1694073600-1694079000@theexecutiveforum.org
SUMMARY:Networking Meeting
DESCRIPTION:We are meeting in person at:  \nCharlie’s Cafe\n1025 Westchester Avenue \nWhite Plains\, NY 10604 \nFor GPS use “Purchase\, NY” or “Harrison\, NY”.
URL:https://theexecutiveforum.org/event/networking-meeting-9-7-23/
LOCATION:Charlie’s Cafe\, 2500 Westchester Avenue\, White Plains\, NY\, 10604\, United States
ORGANIZER;CN="George Goodman":MAILTO:ggoodman@forbesinsurance.com
END:VEVENT
BEGIN:VEVENT
DTSTART;TZID=America/New_York:20230622T080000
DTEND;TZID=America/New_York:20230622T093000
DTSTAMP:20260423T172719
CREATED:20230828T150030Z
LAST-MODIFIED:20230828T150058Z
UID:252-1687420800-1687426200@theexecutiveforum.org
SUMMARY:Networking Meeting
DESCRIPTION:We are meeting in person at:  \nCharlie’s Cafe\n1025 Westchester Avenue \nWhite Plains\, NY 10604 \nFor GPS use “Purchase\, NY” or “Harrison\, NY”.
URL:https://theexecutiveforum.org/event/networking-meeting-6-22-23/
LOCATION:Charlie’s Cafe\, 2500 Westchester Avenue\, White Plains\, NY\, 10604\, United States
ORGANIZER;CN="George Goodman":MAILTO:ggoodman@forbesinsurance.com
END:VEVENT
BEGIN:VEVENT
DTSTART;TZID=America/New_York:20230601T080000
DTEND;TZID=America/New_York:20230601T093000
DTSTAMP:20260423T172719
CREATED:20230828T150008Z
LAST-MODIFIED:20230828T150026Z
UID:250-1685606400-1685611800@theexecutiveforum.org
SUMMARY:Networking Meeting
DESCRIPTION:We are meeting in person at:  \nCharlie’s Cafe\n1025 Westchester Avenue \nWhite Plains\, NY 10604 \nFor GPS use “Purchase\, NY” or “Harrison\, NY”.
URL:https://theexecutiveforum.org/event/networking-meeting-6-1-23/
LOCATION:Charlie’s Cafe\, 2500 Westchester Avenue\, White Plains\, NY\, 10604\, United States
ORGANIZER;CN="George Goodman":MAILTO:ggoodman@forbesinsurance.com
END:VEVENT
BEGIN:VEVENT
DTSTART;TZID=America/New_York:20230511T080000
DTEND;TZID=America/New_York:20230511T093000
DTSTAMP:20260423T172719
CREATED:20230828T145941Z
LAST-MODIFIED:20230828T150004Z
UID:248-1683792000-1683797400@theexecutiveforum.org
SUMMARY:Networking Meeting
DESCRIPTION:We are meeting in person at:  \nCharlie’s Cafe\n1025 Westchester Avenue \nWhite Plains\, NY 10604 \nFor GPS use “Purchase\, NY” or “Harrison\, NY”.
URL:https://theexecutiveforum.org/event/networking-meeting-5-11-23/
LOCATION:Charlie’s Cafe\, 2500 Westchester Avenue\, White Plains\, NY\, 10604\, United States
ORGANIZER;CN="George Goodman":MAILTO:ggoodman@forbesinsurance.com
END:VEVENT
BEGIN:VEVENT
DTSTART;TZID=America/New_York:20230420T080000
DTEND;TZID=America/New_York:20230420T093000
DTSTAMP:20260423T172719
CREATED:20230828T145913Z
LAST-MODIFIED:20230828T145935Z
UID:246-1681977600-1681983000@theexecutiveforum.org
SUMMARY:Networking Meeting
DESCRIPTION:We are meeting in person at:  \nCharlie’s Cafe\n1025 Westchester Avenue \nWhite Plains\, NY 10604 \nFor GPS use “Purchase\, NY” or “Harrison\, NY”.
URL:https://theexecutiveforum.org/event/networking-meeting-4-20-23/
LOCATION:Charlie’s Cafe\, 2500 Westchester Avenue\, White Plains\, NY\, 10604\, United States
ORGANIZER;CN="George Goodman":MAILTO:ggoodman@forbesinsurance.com
END:VEVENT
BEGIN:VEVENT
DTSTART;TZID=America/New_York:20230330T080000
DTEND;TZID=America/New_York:20230330T093000
DTSTAMP:20260423T172719
CREATED:20230828T145854Z
LAST-MODIFIED:20230828T145909Z
UID:244-1680163200-1680168600@theexecutiveforum.org
SUMMARY:Networking Meeting
DESCRIPTION:We are meeting in person at:  \nCharlie’s Cafe\n1025 Westchester Avenue \nWhite Plains\, NY 10604 \nFor GPS use “Purchase\, NY” or “Harrison\, NY”.
URL:https://theexecutiveforum.org/event/networking-meeting-3-30-23/
LOCATION:Charlie’s Cafe\, 2500 Westchester Avenue\, White Plains\, NY\, 10604\, United States
ORGANIZER;CN="George Goodman":MAILTO:ggoodman@forbesinsurance.com
END:VEVENT
BEGIN:VEVENT
DTSTART;TZID=America/New_York:20230309T080000
DTEND;TZID=America/New_York:20230309T093000
DTSTAMP:20260423T172719
CREATED:20230828T145835Z
LAST-MODIFIED:20230828T145850Z
UID:242-1678348800-1678354200@theexecutiveforum.org
SUMMARY:Networking Meeting
DESCRIPTION:We are meeting in person at:  \nCharlie’s Cafe\n1025 Westchester Avenue \nWhite Plains\, NY 10604 \nFor GPS use “Purchase\, NY” or “Harrison\, NY”.
URL:https://theexecutiveforum.org/event/networking-meeting-3-9-23/
LOCATION:Charlie’s Cafe\, 2500 Westchester Avenue\, White Plains\, NY\, 10604\, United States
ORGANIZER;CN="George Goodman":MAILTO:ggoodman@forbesinsurance.com
END:VEVENT
BEGIN:VEVENT
DTSTART;TZID=America/New_York:20230216T080000
DTEND;TZID=America/New_York:20230216T093000
DTSTAMP:20260423T172719
CREATED:20230828T145815Z
LAST-MODIFIED:20230828T145831Z
UID:240-1676534400-1676539800@theexecutiveforum.org
SUMMARY:Networking Meeting
DESCRIPTION:We are meeting in person at:  \nCharlie’s Cafe\n1025 Westchester Avenue \nWhite Plains\, NY 10604 \nFor GPS use “Purchase\, NY” or “Harrison\, NY”.
URL:https://theexecutiveforum.org/event/networking-meeting-2-16-23/
LOCATION:Charlie’s Cafe\, 2500 Westchester Avenue\, White Plains\, NY\, 10604\, United States
ORGANIZER;CN="George Goodman":MAILTO:ggoodman@forbesinsurance.com
END:VEVENT
BEGIN:VEVENT
DTSTART;TZID=America/New_York:20230126T080000
DTEND;TZID=America/New_York:20230126T093000
DTSTAMP:20260423T172719
CREATED:20230828T145754Z
LAST-MODIFIED:20230828T145811Z
UID:238-1674720000-1674725400@theexecutiveforum.org
SUMMARY:Networking Meeting
DESCRIPTION:We are meeting in person at:  \nCharlie’s Cafe\n1025 Westchester Avenue \nWhite Plains\, NY 10604 \nFor GPS use “Purchase\, NY” or “Harrison\, NY”.
URL:https://theexecutiveforum.org/event/networking-meeting-1-26-23/
LOCATION:Charlie’s Cafe\, 2500 Westchester Avenue\, White Plains\, NY\, 10604\, United States
ORGANIZER;CN="George Goodman":MAILTO:ggoodman@forbesinsurance.com
END:VEVENT
BEGIN:VEVENT
DTSTART;TZID=America/New_York:20230105T080000
DTEND;TZID=America/New_York:20230105T093000
DTSTAMP:20260423T172719
CREATED:20230828T145447Z
LAST-MODIFIED:20230828T150347Z
UID:234-1672905600-1672911000@theexecutiveforum.org
SUMMARY:Networking Meeting
DESCRIPTION:We are meeting in person at:  \nCharlie’s Cafe\n1025 Westchester Avenue \nPurchase\, NY 10604 \n(Try Harrison for some GPS)
URL:https://theexecutiveforum.org/event/networking-meeting-1-5-23/
LOCATION:Charlie’s Cafe\, 2500 Westchester Avenue\, White Plains\, NY\, 10604\, United States
ORGANIZER;CN="George Goodman":MAILTO:ggoodman@forbesinsurance.com
END:VEVENT
BEGIN:VEVENT
DTSTART;TZID=America/New_York:20221201T080000
DTEND;TZID=America/New_York:20221201T093000
DTSTAMP:20260423T172719
CREATED:20220918T215024Z
LAST-MODIFIED:20220918T215053Z
UID:225-1669881600-1669887000@theexecutiveforum.org
SUMMARY:Networking Meeting
DESCRIPTION:We are meeting in person at:  \nCharlie’s Cafe\n1025 Westchester Avenue \nWhite Plains\, NY 10604 \nPlease contact us for the Zoom link.
URL:https://theexecutiveforum.org/event/networking-meeting-12-1-22/
LOCATION:Charlie’s Cafe\, 2500 Westchester Avenue\, White Plains\, NY\, 10604\, United States
ORGANIZER;CN="George Goodman":MAILTO:ggoodman@forbesinsurance.com
END:VEVENT
BEGIN:VEVENT
DTSTART;TZID=America/New_York:20221110T080000
DTEND;TZID=America/New_York:20221110T093000
DTSTAMP:20260423T172719
CREATED:20220918T214914Z
LAST-MODIFIED:20220918T214934Z
UID:223-1668067200-1668072600@theexecutiveforum.org
SUMMARY:Networking Meeting
DESCRIPTION:We are meeting in person at:  \nCharlie’s Cafe\n1025 Westchester Avenue \nWhite Plains\, NY 10604 \nPlease contact us for the Zoom link.
URL:https://theexecutiveforum.org/event/networking-meeting-11-10-22/
LOCATION:Charlie’s Cafe\, 2500 Westchester Avenue\, White Plains\, NY\, 10604\, United States
ORGANIZER;CN="George Goodman":MAILTO:ggoodman@forbesinsurance.com
END:VEVENT
BEGIN:VEVENT
DTSTART;TZID=America/New_York:20221020T080000
DTEND;TZID=America/New_York:20221020T093000
DTSTAMP:20260423T172719
CREATED:20220918T214828Z
LAST-MODIFIED:20220918T214855Z
UID:221-1666252800-1666258200@theexecutiveforum.org
SUMMARY:Networking Meeting
DESCRIPTION:We are meeting in person at:  \nCharlie’s Cafe\n1025 Westchester Avenue \nWhite Plains\, NY 10604 \nPlease contact us for the Zoom link.
URL:https://theexecutiveforum.org/event/networking-meeting-10-20-22/
LOCATION:Charlie’s Cafe\, 2500 Westchester Avenue\, White Plains\, NY\, 10604\, United States
ORGANIZER;CN="George Goodman":MAILTO:ggoodman@forbesinsurance.com
END:VEVENT
BEGIN:VEVENT
DTSTART;TZID=America/New_York:20220929T080000
DTEND;TZID=America/New_York:20220929T093000
DTSTAMP:20260423T172719
CREATED:20220918T214713Z
LAST-MODIFIED:20220918T214739Z
UID:219-1664438400-1664443800@theexecutiveforum.org
SUMMARY:Networking Meeting
DESCRIPTION:We are meeting in person at:  \nCharlie’s Cafe\n1025 Westchester Avenue \nWhite Plains\, NY 10604 \nPlease contact us for the Zoom link.
URL:https://theexecutiveforum.org/event/networking-meeting-9-29-22/
LOCATION:Charlie’s Cafe\, 2500 Westchester Avenue\, White Plains\, NY\, 10604\, United States
ORGANIZER;CN="George Goodman":MAILTO:ggoodman@forbesinsurance.com
END:VEVENT
BEGIN:VEVENT
DTSTART;TZID=America/New_York:20220908T080000
DTEND;TZID=America/New_York:20220908T093000
DTSTAMP:20260423T172719
CREATED:20220918T214229Z
LAST-MODIFIED:20220918T214614Z
UID:214-1662624000-1662629400@theexecutiveforum.org
SUMMARY:Networking Meeting
DESCRIPTION:We are meeting in person at:  \nCharlie’s Cafe\n1025 Westchester Avenue \nWhite Plains\, NY 10604 \nPlease contact us for the Zoom link.
URL:https://theexecutiveforum.org/event/networking-meeting-9-8-22/
LOCATION:Charlie’s Cafe\, 2500 Westchester Avenue\, White Plains\, NY\, 10604\, United States
ORGANIZER;CN="George Goodman":MAILTO:ggoodman@forbesinsurance.com
END:VEVENT
BEGIN:VEVENT
DTSTART;TZID=America/New_York:20211111T074500
DTEND;TZID=America/New_York:20211111T090000
DTSTAMP:20260423T172719
CREATED:20210128T170047Z
LAST-MODIFIED:20210128T170439Z
UID:198-1636616700-1636621200@theexecutiveforum.org
SUMMARY:Networking Meeting
DESCRIPTION:Via Zoom. \nPlease contact us for the Zoom link.
URL:https://theexecutiveforum.org/event/networking-meeting-11-11-21/
LOCATION:Zoom
ORGANIZER;CN="George Goodman":MAILTO:ggoodman@forbesinsurance.com
END:VEVENT
BEGIN:VEVENT
DTSTART;TZID=America/New_York:20211021T074500
DTEND;TZID=America/New_York:20211021T090000
DTSTAMP:20260423T172719
CREATED:20210128T170233Z
LAST-MODIFIED:20210128T170348Z
UID:204-1634802300-1634806800@theexecutiveforum.org
SUMMARY:Networking Meeting
DESCRIPTION:Via Zoom. \nPlease contact us for the Zoom link.
URL:https://theexecutiveforum.org/event/networking-meeting-1-21-21/
LOCATION:Zoom
ORGANIZER;CN="George Goodman":MAILTO:ggoodman@forbesinsurance.com
END:VEVENT
BEGIN:VEVENT
DTSTART;TZID=America/New_York:20210930T074500
DTEND;TZID=America/New_York:20210930T090000
DTSTAMP:20260423T172719
CREATED:20210128T170227Z
LAST-MODIFIED:20210128T170252Z
UID:203-1632987900-1632992400@theexecutiveforum.org
SUMMARY:Networking Meeting
DESCRIPTION:Via Zoom. \nPlease contact us for the Zoom link.
URL:https://theexecutiveforum.org/event/networking-meeting-9-30-21/
LOCATION:Zoom
ORGANIZER;CN="George Goodman":MAILTO:ggoodman@forbesinsurance.com
END:VEVENT
BEGIN:VEVENT
DTSTART;TZID=America/New_York:20210909T074500
DTEND;TZID=America/New_York:20210909T090000
DTSTAMP:20260423T172719
CREATED:20210128T170137Z
LAST-MODIFIED:20210128T170213Z
UID:201-1631173500-1631178000@theexecutiveforum.org
SUMMARY:Networking Meeting
DESCRIPTION:Via Zoom. \nPlease contact us for the Zoom link.
URL:https://theexecutiveforum.org/event/networking-meeting-9-9-21/
LOCATION:Zoom
ORGANIZER;CN="George Goodman":MAILTO:ggoodman@forbesinsurance.com
END:VEVENT
BEGIN:VEVENT
DTSTART;TZID=America/New_York:20210624T074500
DTEND;TZID=America/New_York:20210624T090000
DTSTAMP:20260423T172719
CREATED:20210128T170048Z
LAST-MODIFIED:20210128T170115Z
UID:199-1624520700-1624525200@theexecutiveforum.org
SUMMARY:Networking Meeting
DESCRIPTION:Via Zoom. \nPlease contact us for the Zoom link.
URL:https://theexecutiveforum.org/event/networking-meeting-6-24-21/
LOCATION:Zoom
ORGANIZER;CN="George Goodman":MAILTO:ggoodman@forbesinsurance.com
END:VEVENT
BEGIN:VEVENT
DTSTART;TZID=America/New_York:20210603T074500
DTEND;TZID=America/New_York:20210603T090000
DTSTAMP:20260423T172719
CREATED:20210128T165824Z
LAST-MODIFIED:20210128T165928Z
UID:195-1622706300-1622710800@theexecutiveforum.org
SUMMARY:Networking Meeting
DESCRIPTION:Via Zoom. \nPlease contact us for the Zoom link.
URL:https://theexecutiveforum.org/event/networking-meeting-6-3-21/
LOCATION:Zoom
ORGANIZER;CN="George Goodman":MAILTO:ggoodman@forbesinsurance.com
END:VEVENT
BEGIN:VEVENT
DTSTART;TZID=America/New_York:20210513T074500
DTEND;TZID=America/New_York:20210513T090000
DTSTAMP:20260423T172719
CREATED:20210128T165725Z
LAST-MODIFIED:20210128T165759Z
UID:193-1620891900-1620896400@theexecutiveforum.org
SUMMARY:Networking Meeting
DESCRIPTION:Via Zoom. \nPlease contact us for the Zoom link.
URL:https://theexecutiveforum.org/event/networking-meeting-5-13-21/
LOCATION:Zoom
ORGANIZER;CN="George Goodman":MAILTO:ggoodman@forbesinsurance.com
END:VEVENT
BEGIN:VEVENT
DTSTART;TZID=America/New_York:20210422T074500
DTEND;TZID=America/New_York:20210422T090000
DTSTAMP:20260423T172719
CREATED:20210128T165630Z
LAST-MODIFIED:20210128T165654Z
UID:191-1619077500-1619082000@theexecutiveforum.org
SUMMARY:Networking Meeting
DESCRIPTION:Via Zoom. \nPlease contact us for the Zoom link.
URL:https://theexecutiveforum.org/event/networking-meeting-4-22-21/
LOCATION:Zoom
ORGANIZER;CN="George Goodman":MAILTO:ggoodman@forbesinsurance.com
END:VEVENT
BEGIN:VEVENT
DTSTART;TZID=America/New_York:20210401T074500
DTEND;TZID=America/New_York:20210401T090000
DTSTAMP:20260423T172719
CREATED:20210128T165535Z
LAST-MODIFIED:20210128T165620Z
UID:188-1617263100-1617267600@theexecutiveforum.org
SUMMARY:Networking Meeting
DESCRIPTION:Via Zoom. \nPlease contact us for the Zoom link.
URL:https://theexecutiveforum.org/event/networking-meeting-4-1-21/
LOCATION:Zoom
ORGANIZER;CN="George Goodman":MAILTO:ggoodman@forbesinsurance.com
END:VEVENT
BEGIN:VEVENT
DTSTART;TZID=America/New_York:20210311T074500
DTEND;TZID=America/New_York:20210311T090000
DTSTAMP:20260423T172719
CREATED:20210128T165321Z
LAST-MODIFIED:20210128T165401Z
UID:184-1615448700-1615453200@theexecutiveforum.org
SUMMARY:Networking Meeting
DESCRIPTION:Via Zoom. \nPlease contact us for the Zoom link.
URL:https://theexecutiveforum.org/event/networking-meeting-3-11-21/
LOCATION:Zoom
ORGANIZER;CN="George Goodman":MAILTO:ggoodman@forbesinsurance.com
END:VEVENT
BEGIN:VEVENT
DTSTART;TZID=America/New_York:20210218T074500
DTEND;TZID=America/New_York:20210218T090000
DTSTAMP:20260423T172719
CREATED:20210128T165434Z
LAST-MODIFIED:20210128T165506Z
UID:186-1613634300-1613638800@theexecutiveforum.org
SUMMARY:Networking Meeting
DESCRIPTION:Via Zoom. \nPlease contact us for the Zoom link.
URL:https://theexecutiveforum.org/event/networking-meeting-2-18-21/
LOCATION:Zoom
ORGANIZER;CN="George Goodman":MAILTO:ggoodman@forbesinsurance.com
END:VEVENT
END:VCALENDAR