BEGIN:VCALENDAR
VERSION:2.0
PRODID:-//The Executive Forum - ECPv6.15.14//NONSGML v1.0//EN
CALSCALE:GREGORIAN
METHOD:PUBLISH
X-WR-CALNAME:The Executive Forum
X-ORIGINAL-URL:https://theexecutiveforum.org
X-WR-CALDESC:Events for The Executive Forum
REFRESH-INTERVAL;VALUE=DURATION:PT1H
X-Robots-Tag:noindex
X-PUBLISHED-TTL:PT1H
BEGIN:VTIMEZONE
TZID:America/New_York
BEGIN:DAYLIGHT
TZOFFSETFROM:-0500
TZOFFSETTO:-0400
TZNAME:EDT
DTSTART:20170312T070000
END:DAYLIGHT
BEGIN:STANDARD
TZOFFSETFROM:-0400
TZOFFSETTO:-0500
TZNAME:EST
DTSTART:20171105T060000
END:STANDARD
BEGIN:DAYLIGHT
TZOFFSETFROM:-0500
TZOFFSETTO:-0400
TZNAME:EDT
DTSTART:20180311T070000
END:DAYLIGHT
BEGIN:STANDARD
TZOFFSETFROM:-0400
TZOFFSETTO:-0500
TZNAME:EST
DTSTART:20181104T060000
END:STANDARD
BEGIN:DAYLIGHT
TZOFFSETFROM:-0500
TZOFFSETTO:-0400
TZNAME:EDT
DTSTART:20190310T070000
END:DAYLIGHT
BEGIN:STANDARD
TZOFFSETFROM:-0400
TZOFFSETTO:-0500
TZNAME:EST
DTSTART:20191103T060000
END:STANDARD
BEGIN:DAYLIGHT
TZOFFSETFROM:-0500
TZOFFSETTO:-0400
TZNAME:EDT
DTSTART:20200308T070000
END:DAYLIGHT
BEGIN:STANDARD
TZOFFSETFROM:-0400
TZOFFSETTO:-0500
TZNAME:EST
DTSTART:20201101T060000
END:STANDARD
BEGIN:DAYLIGHT
TZOFFSETFROM:-0500
TZOFFSETTO:-0400
TZNAME:EDT
DTSTART:20210314T070000
END:DAYLIGHT
BEGIN:STANDARD
TZOFFSETFROM:-0400
TZOFFSETTO:-0500
TZNAME:EST
DTSTART:20211107T060000
END:STANDARD
BEGIN:DAYLIGHT
TZOFFSETFROM:-0500
TZOFFSETTO:-0400
TZNAME:EDT
DTSTART:20220313T070000
END:DAYLIGHT
BEGIN:STANDARD
TZOFFSETFROM:-0400
TZOFFSETTO:-0500
TZNAME:EST
DTSTART:20221106T060000
END:STANDARD
END:VTIMEZONE
BEGIN:VEVENT
DTSTART;TZID=America/New_York:20210128T074500
DTEND;TZID=America/New_York:20210128T090000
DTSTAMP:20260425T115106
CREATED:20210128T124559Z
LAST-MODIFIED:20210128T165302Z
UID:181-1611819900-1611824400@theexecutiveforum.org
SUMMARY:Networking Meeting
DESCRIPTION:Via Zoom. \nPlease contact us for the Zoom link.
URL:https://theexecutiveforum.org/event/networking-meeting-1-28-21/
LOCATION:Zoom
ORGANIZER;CN="George Goodman":MAILTO:ggoodman@forbesinsurance.com
END:VEVENT
BEGIN:VEVENT
DTSTART;TZID=America/New_York:20210107T074500
DTEND;TZID=America/New_York:20210107T090000
DTSTAMP:20260425T115106
CREATED:20210128T164929Z
LAST-MODIFIED:20210128T165122Z
UID:177-1610005500-1610010000@theexecutiveforum.org
SUMMARY:Networking Meeting
DESCRIPTION:Via Zoom.  \nPlease contact us for the Zoom link.
URL:https://theexecutiveforum.org/event/networking-meeting-1-7-21/
LOCATION:Zoom
ORGANIZER;CN="George Goodman":MAILTO:ggoodman@forbesinsurance.com
END:VEVENT
BEGIN:VEVENT
DTSTART;TZID=America/New_York:20201119T073000
DTEND;TZID=America/New_York:20201119T093000
DTSTAMP:20260425T115106
CREATED:20200205T211714Z
LAST-MODIFIED:20200205T211929Z
UID:165-1605771000-1605778200@theexecutiveforum.org
SUMMARY:Networking Meeting
DESCRIPTION:Bistro 800\n800 Westchester Ave.\, 4th Floor\nRye Brook\, NY 10573
URL:https://theexecutiveforum.org/event/networking-meeting-11-19-20/
LOCATION:800 Westchester Ave.\, 800 Westchester Ave.\, 4th Floor\, Rye Brook\, NY\, 10573
ORGANIZER;CN="George Goodman":MAILTO:ggoodman@forbesinsurance.com
END:VEVENT
BEGIN:VEVENT
DTSTART;TZID=America/New_York:20201029T073000
DTEND;TZID=America/New_York:20201029T093000
DTSTAMP:20260425T115106
CREATED:20200205T211909Z
LAST-MODIFIED:20200205T212009Z
UID:169-1603956600-1603963800@theexecutiveforum.org
SUMMARY:Networking Meeting
DESCRIPTION:Bistro 800\n800 Westchester Ave.\, 4th Floor\nRye Brook\, NY 10573
URL:https://theexecutiveforum.org/event/networking-meeting-10-29-20/
LOCATION:800 Westchester Ave.\, 800 Westchester Ave.\, 4th Floor\, Rye Brook\, NY\, 10573
ORGANIZER;CN="George Goodman":MAILTO:ggoodman@forbesinsurance.com
END:VEVENT
BEGIN:VEVENT
DTSTART;TZID=America/New_York:20201008T073000
DTEND;TZID=America/New_York:20201008T093000
DTSTAMP:20260425T115106
CREATED:20200205T211844Z
LAST-MODIFIED:20200205T212022Z
UID:168-1602142200-1602149400@theexecutiveforum.org
SUMMARY:Networking Meeting
DESCRIPTION:Bistro 800\n800 Westchester Ave.\, 4th Floor\nRye Brook\, NY 10573
URL:https://theexecutiveforum.org/event/networking-meeting-10-8-20/
LOCATION:800 Westchester Ave.\, 800 Westchester Ave.\, 4th Floor\, Rye Brook\, NY\, 10573
ORGANIZER;CN="George Goodman":MAILTO:ggoodman@forbesinsurance.com
END:VEVENT
BEGIN:VEVENT
DTSTART;TZID=America/New_York:20200917T073000
DTEND;TZID=America/New_York:20200917T093000
DTSTAMP:20260425T115106
CREATED:20200205T211807Z
LAST-MODIFIED:20200205T212037Z
UID:167-1600327800-1600335000@theexecutiveforum.org
SUMMARY:Networking Meeting
DESCRIPTION:Bistro 800\n800 Westchester Ave.\, 4th Floor\nRye Brook\, NY 10573
URL:https://theexecutiveforum.org/event/networking-meeting-9-17-20/
LOCATION:800 Westchester Ave.\, 800 Westchester Ave.\, 4th Floor\, Rye Brook\, NY\, 10573
ORGANIZER;CN="George Goodman":MAILTO:ggoodman@forbesinsurance.com
END:VEVENT
BEGIN:VEVENT
DTSTART;TZID=America/New_York:20200625T073000
DTEND;TZID=America/New_York:20200625T093000
DTSTAMP:20260425T115106
CREATED:20200205T211622Z
LAST-MODIFIED:20200205T211707Z
UID:163-1593070200-1593077400@theexecutiveforum.org
SUMMARY:Networking Meeting
DESCRIPTION:Bistro 800\n800 Westchester Ave.\, 4th Floor\nRye Brook\, NY 10573
URL:https://theexecutiveforum.org/event/networking-meeting-6-25-20/
LOCATION:800 Westchester Ave.\, 800 Westchester Ave.\, 4th Floor\, Rye Brook\, NY\, 10573
ORGANIZER;CN="George Goodman":MAILTO:ggoodman@forbesinsurance.com
END:VEVENT
BEGIN:VEVENT
DTSTART;TZID=America/New_York:20200604T073000
DTEND;TZID=America/New_York:20200604T093000
DTSTAMP:20260425T115106
CREATED:20200108T132451Z
LAST-MODIFIED:20200108T132521Z
UID:160-1591255800-1591263000@theexecutiveforum.org
SUMMARY:Networking Meeting
DESCRIPTION:Bistro 800\n800 Westchester Ave.\, 4th Floor\nRye Brook\, NY 10573
URL:https://theexecutiveforum.org/event/networking-meeting-6-4-20/
LOCATION:800 Westchester Ave.\, 800 Westchester Ave.\, 4th Floor\, Rye Brook\, NY\, 10573
ORGANIZER;CN="George Goodman":MAILTO:ggoodman@forbesinsurance.com
END:VEVENT
BEGIN:VEVENT
DTSTART;TZID=America/New_York:20200514T073000
DTEND;TZID=America/New_York:20200514T093000
DTSTAMP:20260425T115106
CREATED:20200108T132405Z
LAST-MODIFIED:20200108T132438Z
UID:158-1589441400-1589448600@theexecutiveforum.org
SUMMARY:Networking Meeting
DESCRIPTION:Bistro 800\n800 Westchester Ave.\, 4th Floor\nRye Brook\, NY 10573
URL:https://theexecutiveforum.org/event/networking-meeting-5-14-20/
LOCATION:800 Westchester Ave.\, 800 Westchester Ave.\, 4th Floor\, Rye Brook\, NY\, 10573
ORGANIZER;CN="George Goodman":MAILTO:ggoodman@forbesinsurance.com
END:VEVENT
BEGIN:VEVENT
DTSTART;TZID=America/New_York:20200423T073000
DTEND;TZID=America/New_York:20200423T093000
DTSTAMP:20260425T115106
CREATED:20200108T132321Z
LAST-MODIFIED:20200108T132352Z
UID:156-1587627000-1587634200@theexecutiveforum.org
SUMMARY:Networking Meeting
DESCRIPTION:Bistro 800\n800 Westchester Ave.\, 4th Floor\nRye Brook\, NY 10573
URL:https://theexecutiveforum.org/event/networking-meeting-4-23-20/
LOCATION:800 Westchester Ave.\, 800 Westchester Ave.\, 4th Floor\, Rye Brook\, NY\, 10573
ORGANIZER;CN="George Goodman":MAILTO:ggoodman@forbesinsurance.com
END:VEVENT
BEGIN:VEVENT
DTSTART;TZID=America/New_York:20200402T073000
DTEND;TZID=America/New_York:20200402T093000
DTSTAMP:20260425T115106
CREATED:20200108T132233Z
LAST-MODIFIED:20200108T132301Z
UID:154-1585812600-1585819800@theexecutiveforum.org
SUMMARY:Networking Meeting
DESCRIPTION:Bistro 800\n800 Westchester Ave.\, 4th Floor\nRye Brook\, NY 10573
URL:https://theexecutiveforum.org/event/networking-meeting-4-2-20/
LOCATION:800 Westchester Ave.\, 800 Westchester Ave.\, 4th Floor\, Rye Brook\, NY\, 10573
ORGANIZER;CN="George Goodman":MAILTO:ggoodman@forbesinsurance.com
END:VEVENT
BEGIN:VEVENT
DTSTART;TZID=America/New_York:20200312T073000
DTEND;TZID=America/New_York:20200312T093000
DTSTAMP:20260425T115106
CREATED:20200108T132152Z
LAST-MODIFIED:20200108T132220Z
UID:152-1583998200-1584005400@theexecutiveforum.org
SUMMARY:Networking Meeting
DESCRIPTION:Bistro 800\n800 Westchester Ave.\, 4th Floor\nRye Brook\, NY 10573
URL:https://theexecutiveforum.org/event/networking-meeting-3-12-20/
LOCATION:800 Westchester Ave.\, 800 Westchester Ave.\, 4th Floor\, Rye Brook\, NY\, 10573
ORGANIZER;CN="George Goodman":MAILTO:ggoodman@forbesinsurance.com
END:VEVENT
BEGIN:VEVENT
DTSTART;TZID=America/New_York:20200220T073000
DTEND;TZID=America/New_York:20200220T093000
DTSTAMP:20260425T115106
CREATED:20200108T131859Z
LAST-MODIFIED:20200108T132118Z
UID:150-1582183800-1582191000@theexecutiveforum.org
SUMMARY:Networking Meeting
DESCRIPTION:Bistro 800\n800 Westchester Ave.\, 4th Floor\nRye Brook\, NY 10573
URL:https://theexecutiveforum.org/event/networking-meeting-2-20-20/
LOCATION:800 Westchester Ave.\, 800 Westchester Ave.\, 4th Floor\, Rye Brook\, NY\, 10573
ORGANIZER;CN="George Goodman":MAILTO:ggoodman@forbesinsurance.com
END:VEVENT
BEGIN:VEVENT
DTSTART;TZID=America/New_York:20200130T073000
DTEND;TZID=America/New_York:20200130T093000
DTSTAMP:20260425T115106
CREATED:20200108T125646Z
LAST-MODIFIED:20200108T125736Z
UID:147-1580369400-1580376600@theexecutiveforum.org
SUMMARY:Networking Meeting
DESCRIPTION:Bistro 800\n800 Westchester Ave.\, 4th Floor\nRye Brook\, NY 10573
URL:https://theexecutiveforum.org/event/networking-meeting-1-30-20/
LOCATION:800 Westchester Ave.\, 800 Westchester Ave.\, 4th Floor\, Rye Brook\, NY\, 10573
ORGANIZER;CN="George Goodman":MAILTO:ggoodman@forbesinsurance.com
END:VEVENT
BEGIN:VEVENT
DTSTART;TZID=America/New_York:20200109T073000
DTEND;TZID=America/New_York:20200109T093000
DTSTAMP:20260425T115106
CREATED:20200108T124652Z
LAST-MODIFIED:20200108T124959Z
UID:140-1578555000-1578562200@theexecutiveforum.org
SUMMARY:Networking Meeting
DESCRIPTION:Bistro 800\n800 Westchester Ave.\, 4th Floor\nRye Brook\, NY 10573
URL:https://theexecutiveforum.org/event/networking-meeting-1-9-20/
LOCATION:800 Westchester Ave.\, 800 Westchester Ave.\, 4th Floor\, Rye Brook\, NY\, 10573
ORGANIZER;CN="George Goodman":MAILTO:ggoodman@forbesinsurance.com
END:VEVENT
BEGIN:VEVENT
DTSTART;TZID=America/New_York:20191114T073000
DTEND;TZID=America/New_York:20191114T093000
DTSTAMP:20260425T115106
CREATED:20190110T002528Z
LAST-MODIFIED:20190110T002546Z
UID:134-1573716600-1573723800@theexecutiveforum.org
SUMMARY:Networking Meeting
DESCRIPTION:Bistro 800\n800 Westchester Ave.\, 4th Floor\nRye Brook\, NY 10573
URL:https://theexecutiveforum.org/event/networking-meeting-2019-copy-copy-copy-copy-copy-copy-copy-copy-copy-copy-copy-copy/
LOCATION:800 Westchester Ave.\, 800 Westchester Ave.\, 4th Floor\, Rye Brook\, NY\, 10573
END:VEVENT
BEGIN:VEVENT
DTSTART;TZID=America/New_York:20191024T073000
DTEND;TZID=America/New_York:20191024T093000
DTSTAMP:20260425T115106
CREATED:20190110T002432Z
LAST-MODIFIED:20190110T002454Z
UID:132-1571902200-1571909400@theexecutiveforum.org
SUMMARY:Networking Meeting
DESCRIPTION:Bistro 800\n800 Westchester Ave.\, 4th Floor\nRye Brook\, NY 10573
URL:https://theexecutiveforum.org/event/networking-meeting-2019-copy-copy-copy-copy-copy-copy-copy-copy-copy-copy-copy/
LOCATION:800 Westchester Ave.\, 800 Westchester Ave.\, 4th Floor\, Rye Brook\, NY\, 10573
END:VEVENT
BEGIN:VEVENT
DTSTART;TZID=America/New_York:20191003T073000
DTEND;TZID=America/New_York:20191003T093000
DTSTAMP:20260425T115106
CREATED:20190110T002354Z
LAST-MODIFIED:20190110T002418Z
UID:130-1570087800-1570095000@theexecutiveforum.org
SUMMARY:Networking Meeting
DESCRIPTION:Bistro 800\n800 Westchester Ave.\, 4th Floor\nRye Brook\, NY 10573
URL:https://theexecutiveforum.org/event/networking-meeting-2019-copy-copy-copy-copy-copy-copy-copy-copy-copy-copy/
LOCATION:800 Westchester Ave.\, 800 Westchester Ave.\, 4th Floor\, Rye Brook\, NY\, 10573
END:VEVENT
BEGIN:VEVENT
DTSTART;TZID=America/New_York:20190912T073000
DTEND;TZID=America/New_York:20190912T093000
DTSTAMP:20260425T115106
CREATED:20190110T002316Z
LAST-MODIFIED:20190110T002340Z
UID:128-1568273400-1568280600@theexecutiveforum.org
SUMMARY:Networking Meeting
DESCRIPTION:Bistro 800\n800 Westchester Ave.\, 4th Floor\nRye Brook\, NY 10573
URL:https://theexecutiveforum.org/event/networking-meeting-2019-copy-copy-copy-copy-copy-copy-copy-copy-copy/
LOCATION:800 Westchester Ave.\, 800 Westchester Ave.\, 4th Floor\, Rye Brook\, NY\, 10573
END:VEVENT
BEGIN:VEVENT
DTSTART;TZID=America/New_York:20190620T073000
DTEND;TZID=America/New_York:20190620T093000
DTSTAMP:20260425T115106
CREATED:20190110T002236Z
LAST-MODIFIED:20190110T002304Z
UID:126-1561015800-1561023000@theexecutiveforum.org
SUMMARY:Networking Meeting
DESCRIPTION:Bistro 800\n800 Westchester Ave.\, 4th Floor\nRye Brook\, NY 10573
URL:https://theexecutiveforum.org/event/networking-meeting-2019-copy-copy-copy-copy-copy-copy-copy-copy/
LOCATION:800 Westchester Ave.\, 800 Westchester Ave.\, 4th Floor\, Rye Brook\, NY\, 10573
END:VEVENT
BEGIN:VEVENT
DTSTART;TZID=America/New_York:20190530T073000
DTEND;TZID=America/New_York:20190530T093000
DTSTAMP:20260425T115106
CREATED:20190110T002143Z
LAST-MODIFIED:20190110T002212Z
UID:124-1559201400-1559208600@theexecutiveforum.org
SUMMARY:Networking Meeting
DESCRIPTION:Bistro 800\n800 Westchester Ave.\, 4th Floor\nRye Brook\, NY 10573
URL:https://theexecutiveforum.org/event/networking-meeting-2019-copy-copy-copy-copy-copy-copy-copy/
LOCATION:800 Westchester Ave.\, 800 Westchester Ave.\, 4th Floor\, Rye Brook\, NY\, 10573
END:VEVENT
BEGIN:VEVENT
DTSTART;TZID=America/New_York:20190509T073000
DTEND;TZID=America/New_York:20190509T093000
DTSTAMP:20260425T115106
CREATED:20190110T001748Z
LAST-MODIFIED:20190110T002020Z
UID:122-1557387000-1557394200@theexecutiveforum.org
SUMMARY:Networking Meeting
DESCRIPTION:Bistro 800\n800 Westchester Ave.\, 4th Floor\nRye Brook\, NY 10573
URL:https://theexecutiveforum.org/event/networking-meeting-2019-copy-copy-copy-copy-copy-copy/
LOCATION:800 Westchester Ave.\, 800 Westchester Ave.\, 4th Floor\, Rye Brook\, NY\, 10573
END:VEVENT
BEGIN:VEVENT
DTSTART;TZID=America/New_York:20190418T073000
DTEND;TZID=America/New_York:20190418T093000
DTSTAMP:20260425T115106
CREATED:20190109T224230Z
LAST-MODIFIED:20190110T001400Z
UID:119-1555572600-1555579800@theexecutiveforum.org
SUMMARY:Networking Meeting
DESCRIPTION:Bistro 800\n800 Westchester Ave.\, 4th Floor\nRye Brook\, NY 10573
URL:https://theexecutiveforum.org/event/networking-meeting-2019-copy-copy-copy-copy-copy/
LOCATION:800 Westchester Ave.\, 800 Westchester Ave.\, 4th Floor\, Rye Brook\, NY\, 10573
END:VEVENT
BEGIN:VEVENT
DTSTART;TZID=America/New_York:20190328T073000
DTEND;TZID=America/New_York:20190328T093000
DTSTAMP:20260425T115106
CREATED:20190109T221145Z
LAST-MODIFIED:20190109T221211Z
UID:117-1553758200-1553765400@theexecutiveforum.org
SUMMARY:Networking Meeting
DESCRIPTION:Bistro 800\n800 Westchester Ave.\, 4th Floor\nRye Brook\, NY 10573
URL:https://theexecutiveforum.org/event/networking-meeting-2019-copy-copy-copy-copy/
LOCATION:800 Westchester Ave.\, 800 Westchester Ave.\, 4th Floor\, Rye Brook\, NY\, 10573
END:VEVENT
BEGIN:VEVENT
DTSTART;TZID=America/New_York:20190307T073000
DTEND;TZID=America/New_York:20190307T093000
DTSTAMP:20260425T115106
CREATED:20190109T221017Z
LAST-MODIFIED:20190109T221038Z
UID:115-1551943800-1551951000@theexecutiveforum.org
SUMMARY:Networking Meeting
DESCRIPTION:Bistro 800\n800 Westchester Ave.\, 4th Floor\nRye Brook\, NY 10573
URL:https://theexecutiveforum.org/event/networking-meeting-2019-copy-copy-copy/
LOCATION:800 Westchester Ave.\, 800 Westchester Ave.\, 4th Floor\, Rye Brook\, NY\, 10573
END:VEVENT
BEGIN:VEVENT
DTSTART;TZID=America/New_York:20190214T073000
DTEND;TZID=America/New_York:20190214T093000
DTSTAMP:20260425T115106
CREATED:20190109T220912Z
LAST-MODIFIED:20190109T220937Z
UID:113-1550129400-1550136600@theexecutiveforum.org
SUMMARY:Networking Meeting
DESCRIPTION:Bistro 800\n800 Westchester Ave.\, 4th Floor\nRye Brook\, NY 10573
URL:https://theexecutiveforum.org/event/networking-meeting-2019-copy-copy/
LOCATION:800 Westchester Ave.\, 800 Westchester Ave.\, 4th Floor\, Rye Brook\, NY\, 10573
END:VEVENT
BEGIN:VEVENT
DTSTART;TZID=America/New_York:20190131T073000
DTEND;TZID=America/New_York:20190131T093000
DTSTAMP:20260425T115106
CREATED:20190109T220756Z
LAST-MODIFIED:20190109T220856Z
UID:110-1548919800-1548927000@theexecutiveforum.org
SUMMARY:Networking Meeting
DESCRIPTION:Bistro 800\n800 Westchester Ave.\, 4th Floor\nRye Brook\, NY 10573
URL:https://theexecutiveforum.org/event/networking-meeting-2019-copy/
LOCATION:800 Westchester Ave.\, 800 Westchester Ave.\, 4th Floor\, Rye Brook\, NY\, 10573
END:VEVENT
BEGIN:VEVENT
DTSTART;TZID=America/New_York:20190110T073000
DTEND;TZID=America/New_York:20190110T093000
DTSTAMP:20260425T115106
CREATED:20190109T214501Z
LAST-MODIFIED:20190109T214059Z
UID:107-1547105400-1547112600@theexecutiveforum.org
SUMMARY:Networking Meeting
DESCRIPTION:Bistro 800\n800 Westchester Ave.\, 4th Floor\nRye Brook\, NY 10573
URL:https://theexecutiveforum.org/event/networking-meeting-2019/
LOCATION:800 Westchester Ave.\, 800 Westchester Ave.\, 4th Floor\, Rye Brook\, NY\, 10573
END:VEVENT
BEGIN:VEVENT
DTSTART;TZID=America/New_York:20181108T073000
DTEND;TZID=America/New_York:20181108T093000
DTSTAMP:20260425T115106
CREATED:20180706T231626Z
LAST-MODIFIED:20181018T135510Z
UID:60-1541662200-1541669400@theexecutiveforum.org
SUMMARY:Networking Meeting
DESCRIPTION:VISITOR DAY!! \nBistro 800\n800 Westchester Ave.\, 4th Floor\nRye Brook\, NY 10573 \nBruce Segall\, President of Marketing Sense and our guest speaker will be giving a presentation on LinkedIn. 
URL:https://theexecutiveforum.org/event/networking-meeting-copy-copy-copy/
LOCATION:800 Westchester Ave.\, 800 Westchester Ave.\, 4th Floor\, Rye Brook\, NY\, 10573
END:VEVENT
BEGIN:VEVENT
DTSTART;TZID=America/New_York:20181018T073000
DTEND;TZID=America/New_York:20181018T093000
DTSTAMP:20260425T115106
CREATED:20180706T231550Z
LAST-MODIFIED:20180921T182459Z
UID:58-1539847800-1539855000@theexecutiveforum.org
SUMMARY:Networking Meeting
DESCRIPTION:Bistro 800\n800 Westchester Ave.\, 4th Floor\nRye Brook\, NY 10573
URL:https://theexecutiveforum.org/event/networking-meeting-copy-copy/
LOCATION:800 Westchester Ave.\, 800 Westchester Ave.\, 4th Floor\, Rye Brook\, NY\, 10573
END:VEVENT
END:VCALENDAR